BEGIN:VCALENDAR
VERSION:2.0
PRODID:-//Deutsches Kabarettarchiv - ECPv6.15.20//NONSGML v1.0//EN
CALSCALE:GREGORIAN
METHOD:PUBLISH
X-WR-CALNAME:Deutsches Kabarettarchiv
X-ORIGINAL-URL:https://kabarett.de
X-WR-CALDESC:Veranstaltungen für Deutsches Kabarettarchiv
REFRESH-INTERVAL;VALUE=DURATION:PT1H
X-Robots-Tag:noindex
X-PUBLISHED-TTL:PT1H
BEGIN:VTIMEZONE
TZID:UTC
BEGIN:STANDARD
TZOFFSETFROM:+0000
TZOFFSETTO:+0000
TZNAME:UTC
DTSTART:20250101T000000
END:STANDARD
END:VTIMEZONE
BEGIN:VEVENT
DTSTART;TZID=UTC:20261120T193000
DTEND;TZID=UTC:20261120T223000
DTSTAMP:20260423T101251
CREATED:20260303T145446Z
LAST-MODIFIED:20260303T145503Z
UID:6946-1795203000-1795213800@kabarett.de
SUMMARY:Grischek / Lübke: Brotlos. Aber Kunst.
DESCRIPTION:Fr\, 20.011. |  19:30 Uhr  |  Einlass 18:00 Uhr |  Eintritt 22€ \nJetzt anmelden \nDas neue Programm zweier Musiker\, deren Wege sich zu Recht kreuzten und für die das Thema Rente nie ein Thema werden wird. Als große Künstler zeigen sie sich in diesem Programm nicht nur musikalisch\, sondern auch bei der Beantwortung der Frage: „Was machen Sie eigentlich beruflich?“ \n \nIhre eigenen Stücke\, ob Song oder Instrumental\, vereinen kunstvoll jahrelange Erfahrung mit musikalischem Einfallsreichtum\, ihre bekannten und teils unentdeckten Coversongs sind keine Kopien\, sondern neu gearbeitete Glanzstücke\, ihre Moderationen sind einmalig unterhaltsam. \nRalf Lübke\, einst Komponist und Gitarrist der Band „Rosenstolz“\, sorgt mit seinem Gesang für tiefe Emotionen\, und Frank Grischek\, den Dieter Hildebrandt einen „hinreißend beleidigten Akkordeonisten“ nannte\, für den Rest.
URL:https://kabarett.de/event/grischek-luebke-brotlos-aber-kunst
LOCATION:Deutsches Kabarettarchiv | MAINZ\, Neue Universitätsstraße 2\, Mainz\, Rheinland-Pfalz\, 55116\, Deutschland
CATEGORIES:Konzert,Mainz,Musik
ATTACH;FMTTYPE=image/jpeg:https://kabarett.de/wp-content/uploads/2026/03/Luebke_Grischek_qu@Robert-Grischek_169web.jpg
END:VEVENT
END:VCALENDAR