BEGIN:VCALENDAR
VERSION:2.0
PRODID:-//Deutsches Kabarettarchiv - ECPv6.15.20//NONSGML v1.0//EN
CALSCALE:GREGORIAN
METHOD:PUBLISH
X-WR-CALNAME:Deutsches Kabarettarchiv
X-ORIGINAL-URL:https://kabarett.de
X-WR-CALDESC:Veranstaltungen für Deutsches Kabarettarchiv
REFRESH-INTERVAL;VALUE=DURATION:PT1H
X-Robots-Tag:noindex
X-PUBLISHED-TTL:PT1H
BEGIN:VTIMEZONE
TZID:UTC
BEGIN:STANDARD
TZOFFSETFROM:+0000
TZOFFSETTO:+0000
TZNAME:UTC
DTSTART:20250101T000000
END:STANDARD
END:VTIMEZONE
BEGIN:VEVENT
DTSTART;TZID=UTC:20261105T193000
DTEND;TZID=UTC:20261105T223000
DTSTAMP:20260424T083138
CREATED:20260302T152315Z
LAST-MODIFIED:20260302T153658Z
UID:6926-1793907000-1793917800@kabarett.de
SUMMARY:Philipp Weber: Power to the popel
DESCRIPTION:Do\, 05.11. | 19:30 Uhr | Einlass 18:00 Uhr | Eintritt 22 € \nJetzt anmelden \n\n\nGeben Sie zu\, Sie haben gerade „Power to the People“ gelesen und innerlich den wunderbaren Song von John Lennon geträllert. Aber dieser Titel ist kein Druckfehler\, denn in Philipp Webers Kabarettstück dreht sich alles um den kleinen „Popel“\, der laut Duden ein „unscheinbares und armseliges Menschlein“ bezeichnet. Dabei ist es eigentlich die Aufgabe der Demokratie\, aus den vereinzelten Winzlingen das selbstbeherrschte Volk zu formen\, den souveränen Souverän. Doch wie schnell wird aus dem Popel eben auch der Pöbel? Laut inoffiziellen Umfragen der Bundesregierung vertreten 75 Prozent der Deutschen die Ansicht\, dass Dreiviertel der Deutschen totale Vollidioten sind. Bloß wer hat denn jetzt hier eigentlich das Sagen? Die People\, der Pöbel oder die Popel? \n \nIn Zeiten\, wo Volksvertreter und Volksverdreher gebetsmühlenartig die Krise der bürgerlichen Gesellschaft beschwören\, übt der Kabarettist mit seinem Publikum auf einer aufregenden Expedition durch die Flora und Fauna des Staatswesens die wertvollste demokratische Tugend: den Humor. \nLachen Sie mit und schützen Sie die Demokratie!
URL:https://kabarett.de/event/philipp-weber-power-to-the-popel
LOCATION:Deutsches Kabarettarchiv | MAINZ\, Neue Universitätsstraße 2\, Mainz\, Rheinland-Pfalz\, 55116\, Deutschland
CATEGORIES:Kabarett,Mainz
ATTACH;FMTTYPE=image/jpeg:https://kabarett.de/wp-content/uploads/2026/03/philipp-weber-power-3-169web-scaled.jpg
END:VEVENT
BEGIN:VEVENT
DTSTART;TZID=UTC:20261108T110000
DTEND;TZID=UTC:20261108T170000
DTSTAMP:20260424T083138
CREATED:20260323T152056Z
LAST-MODIFIED:20260324T105615Z
UID:7007-1794135600-1794157200@kabarett.de
SUMMARY:Open Sunday am 08.11.
DESCRIPTION:So\, 08.11. | 11:00 Uhr – 17:00 Uhr | 4€ \nIm Rahmen unserer aktuellen Ausstellung „Benjamin\, ich hab´nichts anzuzieh`n! Illustrierte Notentitelblätter und Schlager der Goldenen Zwanziger Jahre“ öffnen wir an zwei Sonntagen im Monat unsere Türe. Erkunden Sie die aktuelle Ausstellung in lockerer Atmosphäre bei einem Kaffee oder Gläschen Sekt allein\, mit ihrer Familie oder im Austausch mit anderen. \nIn der Ausstellung werden historische Notenblatt-Illustrationen erstmals digital erfahrbar – interaktiv\, multimedial und in zeitgemäßer Inszenierung. Entdecken Sie die frühe Radiotechnik der 1920er Jahre\, tauchen Sie ein in die Atmosphäre der Roaring Twenties und gewinnen Sie Einblicke in die Themen\, die Mode\, Humor und gesellschaftliche Trends jener Zeit prägten. \n \n \n  \n  \n  \n  \n  \n  \n  \n  \n\nDie Kabarett-Bar ist für Sie geöffnet! \nTickets gibt es an der Museumskasse\, können aber auch HIER vorbestellt werden.
URL:https://kabarett.de/event/open-sunday-am-08-11
LOCATION:Deutsches Kabarettarchiv | MAINZ\, Neue Universitätsstraße 2\, Mainz\, Rheinland-Pfalz\, 55116\, Deutschland
CATEGORIES:Ausstellung,Indoor,Mainz,Open Sunday
ATTACH;FMTTYPE=image/jpeg:https://kabarett.de/wp-content/uploads/2026/03/Wenn-die-Sterne-am-Himmel-leuchten-_-eine-Frau-zwischen-zwei-Maennern_1921_169.jpg
END:VEVENT
BEGIN:VEVENT
DTSTART;TZID=UTC:20261112T180000
DTEND;TZID=UTC:20261112T220000
DTSTAMP:20260424T083138
CREATED:20260302T152518Z
LAST-MODIFIED:20260324T110800Z
UID:6930-1794506400-1794520800@kabarett.de
SUMMARY:Apéro - Kabarett zur blauen Stunde am 12.11.
DESCRIPTION:Do\, 12.11. | 19:30 Uhr | Einlass 18:00 | 15 € inklusive Cocktail\, Eintritt Museum und Programm \nJetzt anmelden \nUnser Apéro – Kabarett zur blauen Stunde ist ein besonderer Abend voller Kunst\, Genuss und Geselligkeit! Genießen Sie die aktuelle Ausstellung in entspannter Atmosphäre\, bei einem Cocktail und im anregenden Austausch mit uns oder anderen Gästen. Mal feucht-fröhlich\, mal berührt-versunken\, mal intensiv streitend – Kabarett at its best! \nUnd um 19.30 Uhr erwartet Sie eine Überraschung. Ein Interview\, eine Lesung\, Musik\, ein kleiner Vortrag – was immer uns so einfällt. \nDie Kabarett-Bar ist geöffnet und bietet Snacks und Getränke.
URL:https://kabarett.de/event/apero-kabarett-zur-blauen-stunde-am-12-11
LOCATION:Rheinland-Pfalz
CATEGORIES:Apéro,Besonderes Event,Mainz
ATTACH;FMTTYPE=image/jpeg:https://kabarett.de/wp-content/uploads/2026/03/Apero-im-blauen-Affen_web.jpg
END:VEVENT
BEGIN:VEVENT
DTSTART;TZID=UTC:20261120T193000
DTEND;TZID=UTC:20261120T223000
DTSTAMP:20260424T083138
CREATED:20260303T145446Z
LAST-MODIFIED:20260303T145503Z
UID:6946-1795203000-1795213800@kabarett.de
SUMMARY:Grischek / Lübke: Brotlos. Aber Kunst.
DESCRIPTION:Fr\, 20.011. |  19:30 Uhr  |  Einlass 18:00 Uhr |  Eintritt 22€ \nJetzt anmelden \nDas neue Programm zweier Musiker\, deren Wege sich zu Recht kreuzten und für die das Thema Rente nie ein Thema werden wird. Als große Künstler zeigen sie sich in diesem Programm nicht nur musikalisch\, sondern auch bei der Beantwortung der Frage: „Was machen Sie eigentlich beruflich?“ \n \nIhre eigenen Stücke\, ob Song oder Instrumental\, vereinen kunstvoll jahrelange Erfahrung mit musikalischem Einfallsreichtum\, ihre bekannten und teils unentdeckten Coversongs sind keine Kopien\, sondern neu gearbeitete Glanzstücke\, ihre Moderationen sind einmalig unterhaltsam. \nRalf Lübke\, einst Komponist und Gitarrist der Band „Rosenstolz“\, sorgt mit seinem Gesang für tiefe Emotionen\, und Frank Grischek\, den Dieter Hildebrandt einen „hinreißend beleidigten Akkordeonisten“ nannte\, für den Rest.
URL:https://kabarett.de/event/grischek-luebke-brotlos-aber-kunst
LOCATION:Deutsches Kabarettarchiv | MAINZ\, Neue Universitätsstraße 2\, Mainz\, Rheinland-Pfalz\, 55116\, Deutschland
CATEGORIES:Konzert,Mainz,Musik
ATTACH;FMTTYPE=image/jpeg:https://kabarett.de/wp-content/uploads/2026/03/Luebke_Grischek_qu@Robert-Grischek_169web.jpg
END:VEVENT
BEGIN:VEVENT
DTSTART;TZID=UTC:20261122T110000
DTEND;TZID=UTC:20261122T170000
DTSTAMP:20260424T083138
CREATED:20260323T152148Z
LAST-MODIFIED:20260324T105646Z
UID:7009-1795345200-1795366800@kabarett.de
SUMMARY:Open Sunday am 22.11.
DESCRIPTION:So\, 22.11. | 11:00 Uhr – 17:00 Uhr | 4€ \nIm Rahmen unserer aktuellen Ausstellung „Benjamin\, ich hab´nichts anzuzieh`n! Illustrierte Notentitelblätter und Schlager der Goldenen Zwanziger Jahre“ öffnen wir an zwei Sonntagen im Monat unsere Türe. Erkunden Sie die aktuelle Ausstellung in lockerer Atmosphäre bei einem Kaffee oder Gläschen Sekt allein\, mit ihrer Familie oder im Austausch mit anderen. \nIn der Ausstellung werden historische Notenblatt-Illustrationen erstmals digital erfahrbar – interaktiv\, multimedial und in zeitgemäßer Inszenierung. Entdecken Sie die frühe Radiotechnik der 1920er Jahre\, tauchen Sie ein in die Atmosphäre der Roaring Twenties und gewinnen Sie Einblicke in die Themen\, die Mode\, Humor und gesellschaftliche Trends jener Zeit prägten. \n \n \n  \n  \n  \n  \n  \n  \n  \n  \n\nDie Kabarett-Bar ist für Sie geöffnet! \nTickets gibt es an der Museumskasse\, können aber auch HIER vorbestellt werden.
URL:https://kabarett.de/event/open-sunday-am-22-11
LOCATION:Deutsches Kabarettarchiv | MAINZ\, Neue Universitätsstraße 2\, Mainz\, Rheinland-Pfalz\, 55116\, Deutschland
CATEGORIES:Ausstellung,Indoor,Mainz,Open Sunday
ATTACH;FMTTYPE=image/jpeg:https://kabarett.de/wp-content/uploads/2026/03/Wenn-die-Sterne-am-Himmel-leuchten-_-eine-Frau-zwischen-zwei-Maennern_1921_169.jpg
END:VEVENT
BEGIN:VEVENT
DTSTART;TZID=UTC:20261126T180000
DTEND;TZID=UTC:20261126T220000
DTSTAMP:20260424T083138
CREATED:20260302T141443Z
LAST-MODIFIED:20260302T141443Z
UID:6906-1795716000-1795730400@kabarett.de
SUMMARY:P ART - der Gallery Crawl. 26.11.
DESCRIPTION:Wir sind wieder part of P ART!\nDo\, 26.11. | 18-22 Uhr | Eintritt frei \n„Benjamin\, ich hab’ nichts anzuzieh’n!“ – Ausstellung \nWie sah Popkultur vor 100 Jahren aus? In unserer innovativ gestalteten Ausstellung erwachen historische Notenblatt-Illustrationen erstmals digital zum Leben – multimedial\, interaktiv und voller Überraschungen. \nVideoinstallationen und Mitmach-Stationen nehmen euch mit auf eine Zeitreise in die Roaring Twenties. Im Mittelpunkt stehen kunstvoll illustrierte Noten-Titelblätter\, die vor über 100 Jahren entstanden sind – ein einzigartiger und kaum bekannter Schatz der Alltagskultur. Mit ihren Grafiken\, pointierten Texten und Schlagern zeigen sie\, was die Menschen damals bewegte – von Mode und Humor bis zu gesellschaftlichen Trends. \n    \nDie Illustrationen reichen von naiv bis grotesk und greifen Kunststile wie Biedermeier\, Jugendstil und Neue Sachlichkeit auf. Sie erzählen Geschichten von Identität\, Pop und gesellschaftlichem Wandel – und wirken dabei überraschend aktuell. Aufgrund der großen Nachfrage wurde die Ausstellung bis 13.12.2026 verlängert. \n  \nDie Kabarett-Bar ist für euch geöffnet und bietet Snacks und Getränke. \nWir freuen uns auf euch!\n@kabarettarchiv
URL:https://kabarett.de/event/p-art-der-gallery-crawl-24-09-2
LOCATION:Deutsches Kabarettarchiv | MAINZ\, Neue Universitätsstraße 2\, Mainz\, Rheinland-Pfalz\, 55116\, Deutschland
CATEGORIES:Ausstellung,Besonderes Event,Mainz
ATTACH;FMTTYPE=image/jpeg:https://kabarett.de/wp-content/uploads/2025/02/P-ART_2025-scaled.jpeg
END:VEVENT
END:VCALENDAR