BEGIN:VCALENDAR
VERSION:2.0
PRODID:-//Deutsches Kabarettarchiv - ECPv6.15.20//NONSGML v1.0//EN
CALSCALE:GREGORIAN
METHOD:PUBLISH
X-ORIGINAL-URL:https://kabarett.de
X-WR-CALDESC:Veranstaltungen für Deutsches Kabarettarchiv
REFRESH-INTERVAL;VALUE=DURATION:PT1H
X-Robots-Tag:noindex
X-PUBLISHED-TTL:PT1H
BEGIN:VTIMEZONE
TZID:UTC
BEGIN:STANDARD
TZOFFSETFROM:+0000
TZOFFSETTO:+0000
TZNAME:UTC
DTSTART:20250101T000000
END:STANDARD
END:VTIMEZONE
BEGIN:VEVENT
DTSTART;TZID=UTC:20261025T160000
DTEND;TZID=UTC:20261025T210000
DTSTAMP:20260424T085644
CREATED:20260323T154826Z
LAST-MODIFIED:20260324T110006Z
UID:7012-1792944000-1792962000@kabarett.de
SUMMARY:65. Geburtstag - Große Feier
DESCRIPTION:So\, 25.10. | 16:00-21:00 Uhr | Große Geburtstagsfeier | Anmeldung erforderlich\n\n\n65 Jahre Deutsches Kabarettarchiv | 125 Jahre Deutsches Kabarett\n& Gratulanten sind herzlich und Geschenke sehr willkommen! \n& Kaffee und Kuchen \n& eine feierliche Ankündigung mit Blick auf die Zukunft \n& Programm mit Chanson-Entertainer Jo van Nelsen \n& Ausklang an der Kabarett-Bar \n \nHIER anmelden!
URL:https://kabarett.de/event/65-geburtstag-grosse-feier
LOCATION:Deutsches Kabarettarchiv | MAINZ\, Neue Universitätsstraße 2\, Mainz\, Rheinland-Pfalz\, 55116\, Deutschland
CATEGORIES:Ausstellung,Besonderes Event,Chanson,Indoor,Kabarett,Mainz,Musik,Open Sunday
ATTACH;FMTTYPE=image/jpeg:https://kabarett.de/wp-content/uploads/2026/03/Kopf_Simplicissimus-Dogge-DKA169.jpeg
END:VEVENT
END:VCALENDAR