BEGIN:VCALENDAR
VERSION:2.0
PRODID:-//Deutsches Kabarettarchiv - ECPv6.15.20//NONSGML v1.0//EN
CALSCALE:GREGORIAN
METHOD:PUBLISH
X-ORIGINAL-URL:https://kabarett.de
X-WR-CALDESC:Veranstaltungen für Deutsches Kabarettarchiv
REFRESH-INTERVAL;VALUE=DURATION:PT1H
X-Robots-Tag:noindex
X-PUBLISHED-TTL:PT1H
BEGIN:VTIMEZONE
TZID:UTC
BEGIN:STANDARD
TZOFFSETFROM:+0000
TZOFFSETTO:+0000
TZNAME:UTC
DTSTART:20250101T000000
END:STANDARD
END:VTIMEZONE
BEGIN:VEVENT
DTSTART;TZID=UTC:20261016T193000
DTEND;TZID=UTC:20261016T223000
DTSTAMP:20260424T083237
CREATED:20260302T143606Z
LAST-MODIFIED:20260316T150843Z
UID:6920-1792179000-1792189800@kabarett.de
SUMMARY:Schwester Cordula liebt Westernromane
DESCRIPTION:Fr\, 16.10. | 19:30 Uhr | Einlass 18:00 Uhr | Eintritt 20 € \nJetzt anmelden \n\n\nLiebe\, Lasso\, Leidenschaft \nNach Arzt-\, Mutti- und Heimatromanen geht es im neuesten Opus von Saskia Kästner und Dirk Rave um Cowboys! Die Helden mit gestähltem Body\, Dreitagbart und lockend männlicher Stimme. Vergessen Sie das Klischee von harten und schweigsamen Einzelgängern: Schwester Cordula zeigt uns\, wie moderne Westernhelden aussehen. Diese Cowboys sind alleinerziehende Väter\, von erlebnishungrigen Städterinnen auf Sinnsuche desillusioniert zurückgelassen. Sie tragen Verantwortung\, ein sympathisch-arrogantes Lächeln und verführerische Grübchen. Hier geht es um klare Realität\, keine Illusionen – es geht um Leidenschaft\, aber nicht um Liebe. Außer zu ihren Kindern. Und ihren Pferden. \n \nGroschenheftsatire. Heile Welt fürs kranke Gemüt. Garantiert schockierend.\nLeidenschaftlich. Virtuos. Das wahre Leben. Eben.
URL:https://kabarett.de/event/schwester-cordula-liebt-westernromane
LOCATION:Deutsches Kabarettarchiv | MAINZ\, Neue Universitätsstraße 2\, Mainz\, Rheinland-Pfalz\, 55116\, Deutschland
CATEGORIES:Mainz,Musik,Schauspiel
ATTACH;FMTTYPE=image/jpeg:https://kabarett.de/wp-content/uploads/2026/03/Schwester-Cordula_Western_Thomas-Nitz_169web.jpg
END:VEVENT
END:VCALENDAR