BEGIN:VCALENDAR
VERSION:2.0
PRODID:-//Deutsches Kabarettarchiv - ECPv6.15.20//NONSGML v1.0//EN
CALSCALE:GREGORIAN
METHOD:PUBLISH
X-ORIGINAL-URL:https://kabarett.de
X-WR-CALDESC:Veranstaltungen für Deutsches Kabarettarchiv
REFRESH-INTERVAL;VALUE=DURATION:PT1H
X-Robots-Tag:noindex
X-PUBLISHED-TTL:PT1H
BEGIN:VTIMEZONE
TZID:UTC
BEGIN:STANDARD
TZOFFSETFROM:+0000
TZOFFSETTO:+0000
TZNAME:UTC
DTSTART:20250101T000000
END:STANDARD
END:VTIMEZONE
BEGIN:VEVENT
DTSTART;TZID=UTC:20261011T110000
DTEND;TZID=UTC:20261011T170000
DTSTAMP:20260422T153751
CREATED:20260323T151921Z
LAST-MODIFIED:20260324T105720Z
UID:7005-1791716400-1791738000@kabarett.de
SUMMARY:Open Sunday am 11.10.
DESCRIPTION:So\, 11.10. | 11:00 Uhr – 17:00 Uhr | 4€ \nIm Rahmen unserer aktuellen Ausstellung „Benjamin\, ich hab´nichts anzuzieh`n! Illustrierte Notentitelblätter und Schlager der Goldenen Zwanziger Jahre“ öffnen wir an zwei Sonntagen im Monat unsere Türe. Erkunden Sie die aktuelle Ausstellung in lockerer Atmosphäre bei einem Kaffee oder Gläschen Sekt allein\, mit ihrer Familie oder im Austausch mit anderen. \nIn der Ausstellung werden historische Notenblatt-Illustrationen erstmals digital erfahrbar – interaktiv\, multimedial und in zeitgemäßer Inszenierung. Entdecken Sie die frühe Radiotechnik der 1920er Jahre\, tauchen Sie ein in die Atmosphäre der Roaring Twenties und gewinnen Sie Einblicke in die Themen\, die Mode\, Humor und gesellschaftliche Trends jener Zeit prägten. \n \n \n  \n  \n  \n  \n  \n  \n  \n  \n\nDie Kabarett-Bar ist für Sie geöffnet! \nTickets gibt es an der Museumskasse\, können aber auch HIER vorbestellt werden.
URL:https://kabarett.de/event/open-sunday-am-11-10
LOCATION:Deutsches Kabarettarchiv | MAINZ\, Neue Universitätsstraße 2\, Mainz\, Rheinland-Pfalz\, 55116\, Deutschland
CATEGORIES:Ausstellung,Indoor,Mainz,Open Sunday
ATTACH;FMTTYPE=image/jpeg:https://kabarett.de/wp-content/uploads/2026/03/Wenn-die-Sterne-am-Himmel-leuchten-_-eine-Frau-zwischen-zwei-Maennern_1921_169.jpg
END:VEVENT
END:VCALENDAR