BEGIN:VCALENDAR
VERSION:2.0
PRODID:-//Deutsches Kabarettarchiv - ECPv6.15.20//NONSGML v1.0//EN
CALSCALE:GREGORIAN
METHOD:PUBLISH
X-WR-CALNAME:Deutsches Kabarettarchiv
X-ORIGINAL-URL:https://kabarett.de
X-WR-CALDESC:Veranstaltungen für Deutsches Kabarettarchiv
REFRESH-INTERVAL;VALUE=DURATION:PT1H
X-Robots-Tag:noindex
X-PUBLISHED-TTL:PT1H
BEGIN:VTIMEZONE
TZID:UTC
BEGIN:STANDARD
TZOFFSETFROM:+0000
TZOFFSETTO:+0000
TZNAME:UTC
DTSTART:20250101T000000
END:STANDARD
END:VTIMEZONE
BEGIN:VEVENT
DTSTART;TZID=UTC:20260924T180000
DTEND;TZID=UTC:20260924T220000
DTSTAMP:20260422T140046
CREATED:20260302T140438Z
LAST-MODIFIED:20260323T144837Z
UID:6899-1790272800-1790287200@kabarett.de
SUMMARY:P ART - der Gallery Crawl. 24.09.
DESCRIPTION:Wir sind wieder part of P ART!\nDo\, 24.09. | 18-22 Uhr | Eintritt frei \n„Benjamin\, ich hab’ nichts anzuzieh’n!“ – Ausstellung \nPopkultur vor 100 Jahren – überraschend wild\, witzig und ziemlich aktuell.In unserer Ausstellung werden historische Notenblatt-Illustrationen erstmals digital erlebbar: interaktiv\, multimedial und alles andere als verstaubt. \nEntdeckt die Radio-Vorläufer von 1920\, taucht in die Roaring Twenties ein und entdeckt\, was damals Mode\, Humor und Trends bestimmt hat. \n    \nVon skurril bis stylish: Die Grafiken erzählen von Identität\, Gesellschaft und Pop – und wirken dabei überraschend zeitgemäß. \nDie Ausstellung ist verlängert bis 13.12.2026 – kommt vorbei! \nDie Kabarett-Bar ist für euch geöffnet und bietet Snacks und Getränke. \nWir freuen uns auf euch!\n@kabarettarchiv
URL:https://kabarett.de/event/p-art-der-gallery-crawl-24-09
LOCATION:Deutsches Kabarettarchiv | MAINZ\, Neue Universitätsstraße 2\, Mainz\, Rheinland-Pfalz\, 55116\, Deutschland
CATEGORIES:Ausstellung,Besonderes Event,Mainz
ATTACH;FMTTYPE=image/jpeg:https://kabarett.de/wp-content/uploads/2025/02/P-ART_2025-scaled.jpeg
END:VEVENT
END:VCALENDAR