BEGIN:VCALENDAR
VERSION:2.0
PRODID:-//Deutsches Kabarettarchiv - ECPv6.15.20//NONSGML v1.0//EN
CALSCALE:GREGORIAN
METHOD:PUBLISH
X-WR-CALNAME:Deutsches Kabarettarchiv
X-ORIGINAL-URL:https://kabarett.de
X-WR-CALDESC:Veranstaltungen für Deutsches Kabarettarchiv
REFRESH-INTERVAL;VALUE=DURATION:PT1H
X-Robots-Tag:noindex
X-PUBLISHED-TTL:PT1H
BEGIN:VTIMEZONE
TZID:UTC
BEGIN:STANDARD
TZOFFSETFROM:+0000
TZOFFSETTO:+0000
TZNAME:UTC
DTSTART:20250101T000000
END:STANDARD
END:VTIMEZONE
BEGIN:VEVENT
DTSTART;TZID=UTC:20260910T180000
DTEND;TZID=UTC:20260910T220000
DTSTAMP:20260422T135907
CREATED:20260302T132957Z
LAST-MODIFIED:20260324T110904Z
UID:6878-1789063200-1789077600@kabarett.de
SUMMARY:Apéro - Kabarett zur blauen Stunde am 10.09.
DESCRIPTION:Do\, 10.09. | 19:30 Uhr | Einlass 18:00 | 15 € inklusive Cocktail\, Eintritt Museum und Programm \nJetzt anmelden \nUnser Apéro – Kabarett zur blauen Stunde ist ein besonderer Abend voller Kunst\, Genuss und Geselligkeit! Genießen Sie die aktuelle\nAusstellung in entspannter Atmosphäre – mit einem leckeren Cocktail in der Hand oder im anregenden Gespräch mit anderen kunstbegeisterten Gästen. Lassen Sie den Alltag hinter sich und erleben Sie eine blaue Stunde\, die noch lange nachklingt. Unsere Kabarett-Bar ist geöffnet und bietet Snacks und Getränke. \nUm 19.30 Uhr erwartet Sie ein besonderes Highlight: \n \nAutor und Kabarettist Thomas C. Breuer gibt sehr persönliche und humorvolle Einblicke in sein künstlerisches Leben – geprägt von einer 40-jährigen Bühnenkarriere.
URL:https://kabarett.de/event/apero-kabarett-zur-blauen-stunde-am-10-09
LOCATION:Rheinland-Pfalz
CATEGORIES:Apéro,Besonderes Event,Gespräch,Kabarett,Mainz
ATTACH;FMTTYPE=image/jpeg:https://kabarett.de/wp-content/uploads/2026/03/t-c-breuer-letzter-aufruf-foto-patrik-kummer.jpg
END:VEVENT
END:VCALENDAR