BEGIN:VCALENDAR
VERSION:2.0
PRODID:-//Deutsches Kabarettarchiv - ECPv6.15.20//NONSGML v1.0//EN
CALSCALE:GREGORIAN
METHOD:PUBLISH
X-ORIGINAL-URL:https://kabarett.de
X-WR-CALDESC:Veranstaltungen für Deutsches Kabarettarchiv
REFRESH-INTERVAL;VALUE=DURATION:PT1H
X-Robots-Tag:noindex
X-PUBLISHED-TTL:PT1H
BEGIN:VTIMEZONE
TZID:UTC
BEGIN:STANDARD
TZOFFSETFROM:+0000
TZOFFSETTO:+0000
TZNAME:UTC
DTSTART:20250101T000000
END:STANDARD
END:VTIMEZONE
BEGIN:VEVENT
DTSTART;TZID=UTC:20260701T090000
DTEND;TZID=UTC:20260819T170000
DTSTAMP:20260420T052436
CREATED:20260303T154119Z
LAST-MODIFIED:20260402T105021Z
UID:6959-1782896400-1787158800@kabarett.de
SUMMARY:Sommerpause
DESCRIPTION:Vom 1. Juli bis einschließlich 19. August 2026 verabschieden wir uns in die wohlverdiente \n🌞Sommerpause🌞. \nNach einem spielfreudigen 1. Halbjahr voller Humor\, scharfsinnigen Pointen und schönen Begegnungen legen wir eine kleine kreative Pause ein: Kraft tanken\, neue Ideen sammeln\, Cocktails mit Schirmchen schlürfen – und uns bestens auf das zweite Halbjahr vorbereiten. \n\nDas Büro ist unregelmäßig besetzt. E-Mails werden in dieser Zeit aber sporadisch gelesen und beantwortet.\nMillionenschwere Spendenbeträge nehmen wir selbstverständlich rund um die Uhr mit größter Freude entgegen. 😉\nAb dem 20. August 2026 sind wir wieder wie gewohnt für Sie da – mit offenen Türen\, wachem Geist und großer Begeisterung für Kabarett und Satire in all ihren Facetten.\n\nWir danken Ihnen herzlich für Ihre Verbundenheit\, wünschen Ihnen einen sonnigen\, erholsamen und inspirierenden Sommer und freuen uns auf ein Wiedersehen! \nIhr Team der\nStiftung Deutsches Kabarett
URL:https://kabarett.de/event/sommerpause
LOCATION:Rheinland-Pfalz
CATEGORIES:Mainz
ATTACH;FMTTYPE=image/jpeg:https://kabarett.de/wp-content/uploads/2026/03/Bulldogge-schlafend_faul_Hintergrund-rot.jpg
END:VEVENT
END:VCALENDAR