BEGIN:VCALENDAR
VERSION:2.0
PRODID:-//Deutsches Kabarettarchiv - ECPv6.15.20//NONSGML v1.0//EN
CALSCALE:GREGORIAN
METHOD:PUBLISH
X-WR-CALNAME:Deutsches Kabarettarchiv
X-ORIGINAL-URL:https://kabarett.de
X-WR-CALDESC:Veranstaltungen für Deutsches Kabarettarchiv
REFRESH-INTERVAL;VALUE=DURATION:PT1H
X-Robots-Tag:noindex
X-PUBLISHED-TTL:PT1H
BEGIN:VTIMEZONE
TZID:UTC
BEGIN:STANDARD
TZOFFSETFROM:+0000
TZOFFSETTO:+0000
TZNAME:UTC
DTSTART:20250101T000000
END:STANDARD
END:VTIMEZONE
BEGIN:VEVENT
DTSTART;TZID=UTC:20260423T180000
DTEND;TZID=UTC:20260423T220000
DTSTAMP:20260423T095714
CREATED:20251108T170740Z
LAST-MODIFIED:20260402T093235Z
UID:6453-1776967200-1776981600@kabarett.de
SUMMARY:Apéro - Kabarett zur blauen Stunde am 23.04.2026
DESCRIPTION:Do\, 23.04. | 19:30 Uhr | Einlass 18:00 | 11 € inkl. Cocktail\, Museumseintritt & Programm \nJetzt anmelden \n100 Jahre Rennbahn-Sketch\n„Wo laufen Sie denn?“ Der Rennbahn-Sketch wurde durch Loriots Knollnasenmännchen 1972 berühmt. Die Story ist so einfach wie genial: Ein völlig ahnungsloser Zuschauer steht auf der Pferderennbahn\, überfordert mit Fernglas und Geschehen – und nervt seinen Nachbarn mit der ewigen Frage: „Wo laufen sie denn?“ \nGespielt und auf Schellackplatte aufgenommen wurde der Sketch jedoch schon am 23. April 1926 von dem aus Einbeck stammenden Schauspieler und Kabarettisten Wilhelm Bendow (1884-1950) und seinem Kollegen Paul Morgan. \n\nTheaterszene 1926_Foto mit Widmung\, unterzeichnet von Wilhelm Bendow. Foto 1737\, phot.Wipro.  \nZum 100-jährigen Jubiläum erinnert die Einbecker Journalistin Delia Ehrenheim-Schmidt mit einer Fülle an Fakten an Bendow\, der als Conférencier\, durch seine umständliche Komik und pointierten Filmrollen beliebt war. \nNatürlich gibt´s auch den Original-Sketch zu hören! \nUnser Apéro – Kabarett zur blauen Stunde ist ein besonderer Abend voller Kunst\, Genuss und Geselligkeit! Genießen Sie die aktuelle Ausstellung in entspannter Atmosphäre – mit einem leckeren Cocktail in der Hand oder im anregenden Gespräch mit anderen kunstbegeisterten Gästen. Um 19.30 Uhr wird dann ein kleines Programm geboten. \nLassen Sie den Alltag hinter sich und erleben Sie eine blaue Stunde\, die noch lange nachklingt.Unsere Kabarett-Bar ist geöffnet und bietet Snacks und Getränke.
URL:https://kabarett.de/event/apero-kabarett-zur-blauen-stunde-am-23-04-2026
LOCATION:Rheinland-Pfalz
CATEGORIES:Apéro,Besonderes Event,Kabarett,Mainz,Vortrag
ATTACH;FMTTYPE=image/jpeg:https://kabarett.de/wp-content/uploads/2025/11/Bendow-Ehrenheim-Schmidt_Foto-Kroeger_169web.jpg
END:VEVENT
END:VCALENDAR